BEGIN:VCALENDAR
VERSION:2.0
PRODID:-//Biohof Fehmarn - ECPv6.15.15//NONSGML v1.0//EN
CALSCALE:GREGORIAN
METHOD:PUBLISH
X-ORIGINAL-URL:https://www.biohof-fehmarn.de
X-WR-CALDESC:Veranstaltungen für Biohof Fehmarn
REFRESH-INTERVAL;VALUE=DURATION:PT1H
X-Robots-Tag:noindex
X-PUBLISHED-TTL:PT1H
BEGIN:VTIMEZONE
TZID:Europe/Berlin
BEGIN:DAYLIGHT
TZOFFSETFROM:+0100
TZOFFSETTO:+0200
TZNAME:CEST
DTSTART:20230326T010000
END:DAYLIGHT
BEGIN:STANDARD
TZOFFSETFROM:+0200
TZOFFSETTO:+0100
TZNAME:CET
DTSTART:20231029T010000
END:STANDARD
BEGIN:DAYLIGHT
TZOFFSETFROM:+0100
TZOFFSETTO:+0200
TZNAME:CEST
DTSTART:20240331T010000
END:DAYLIGHT
BEGIN:STANDARD
TZOFFSETFROM:+0200
TZOFFSETTO:+0100
TZNAME:CET
DTSTART:20241027T010000
END:STANDARD
BEGIN:DAYLIGHT
TZOFFSETFROM:+0100
TZOFFSETTO:+0200
TZNAME:CEST
DTSTART:20250330T010000
END:DAYLIGHT
BEGIN:STANDARD
TZOFFSETFROM:+0200
TZOFFSETTO:+0100
TZNAME:CET
DTSTART:20251026T010000
END:STANDARD
BEGIN:DAYLIGHT
TZOFFSETFROM:+0100
TZOFFSETTO:+0200
TZNAME:CEST
DTSTART:20260329T010000
END:DAYLIGHT
BEGIN:STANDARD
TZOFFSETFROM:+0200
TZOFFSETTO:+0100
TZNAME:CET
DTSTART:20261025T010000
END:STANDARD
END:VTIMEZONE
BEGIN:VEVENT
DTSTART;TZID=Europe/Berlin:20240111T100000
DTEND;TZID=Europe/Berlin:20250111T160000
DTSTAMP:20260421T001205
CREATED:20241102T204259Z
LAST-MODIFIED:20241102T204802Z
UID:10004711-1704967200-1736611200@www.biohof-fehmarn.de
SUMMARY:Mantanka Workshop
DESCRIPTION:46
URL:https://www.biohof-fehmarn.de/event/mantanka-workshop/
LOCATION:Herzensraum Biohof Nature Homes\, Ostermarkelsdorf 2\, Fehmarn\, 23769\, Deutschland
END:VEVENT
BEGIN:VEVENT
DTSTART;TZID=Europe/Berlin:20241217T170000
DTEND;TZID=Europe/Berlin:20241217T183000
DTSTAMP:20260421T001205
CREATED:20231130T164212Z
LAST-MODIFIED:20260112T114444Z
UID:10002824-1734454800-1734460200@www.biohof-fehmarn.de
SUMMARY:Yoga sanft
DESCRIPTION:Yoga ist ein seit dem Altertum bekannter und bewährter Übungsweg\, um Körper\, Geist und Atem so zu beeinflussen\, dass sie harmonisch aufeinander einwirken. Die Übungen des Yoga schaffen einen Ausgleich zu den Belastungen des Alltags. Sie stärken den Körper\, die Atemkraft und unsere Fähigkeit\, den Herausforderungen des Lebens gelassen zu begegnen. Mit Yoga betreten wir einen Weg der Achtsamkeit\, unsere innere Zufriedenheit wächst und zwar jeden Tag aufs Neue. Wir erschaffen uns dadurch eine Insel im Alltag\, die uns einlädt auszuruhen\, zu regenerieren\, eine Pause einzulegen und auch die Gedanken zur Ruhe kommen zu lassen.\nMein Schwerpunkt liegt auf dem sanftem Yoga. Durch Kombinationen von Yoga – Abfolgen im Atemrhythmus\, geführte Meditationen\nund einer Tiefenentspannung am Schluss der Stunde gelangen wir gemeinsam in eine „Wohlspannung“ . Freut euch darauf!\nNamasté\, eure Maike\n\nPreis:16€\nBitte vorher anmelden.
URL:https://www.biohof-fehmarn.de/event/yoga-sanft-2/2024-12-17/
LOCATION:Herzensraum Biohof Nature Homes\, Ostermarkelsdorf 2\, Fehmarn\, 23769\, Deutschland
ATTACH;FMTTYPE=image/jpeg:https://www.biohof-fehmarn.de/wp-content/uploads/2023/04/Maike_yoga.jpg
ORGANIZER;CN="Maike Remus":MAILTO:maikeremus@t-online.de
END:VEVENT
BEGIN:VEVENT
DTSTART;TZID=Europe/Berlin:20241217T190000
DTEND;TZID=Europe/Berlin:20241217T203000
DTSTAMP:20260421T001205
CREATED:20231130T091606Z
LAST-MODIFIED:20251202T093706Z
UID:10000874-1734462000-1734467400@www.biohof-fehmarn.de
SUMMARY:Yoga sanft
DESCRIPTION:Yoga ist ein seit dem Altertum bekannter und bewährter Übungsweg\, um Körper\, Geist und Atem so zu beeinflussen\, dass sie harmonisch aufeinander einwirken. Die Übungen des Yoga schaffen einen Ausgleich zu den Belastungen des Alltags. Sie stärken den Körper\, die Atemkraft und unsere Fähigkeit\, den Herausforderungen des Lebens gelassen zu begegnen. Mit Yoga betreten wir einen Weg der Achtsamkeit\, unsere innere Zufriedenheit wächst und zwar jeden Tag aufs Neue. Wir erschaffen uns dadurch eine Insel im Alltag\, die uns einlädt auszuruhen\, zu regenerieren\, eine Pause einzulegen und auch die Gedanken zur Ruhe kommen zu lassen.\nMein Schwerpunkt liegt auf dem sanftem Yoga. Durch Kombinationen von Yoga – Abfolgen im Atemrhythmus\, geführte Meditationen\nund einer Tiefenentspannung am Schluss der Stunde gelangen wir gemeinsam in eine „Wohlspannung“ . Freut euch darauf!\nNamasté\, eure Maike
URL:https://www.biohof-fehmarn.de/event/yoga-sanft/2024-12-17/
LOCATION:Herzensraum Biohof Nature Homes\, Ostermarkelsdorf 2\, Fehmarn\, 23769\, Deutschland
ATTACH;FMTTYPE=image/jpeg:https://www.biohof-fehmarn.de/wp-content/uploads/2023/04/Maike_yoga.jpg
ORGANIZER;CN="Maike Remus":MAILTO:maikeremus@t-online.de
END:VEVENT
END:VCALENDAR